BEGIN:VCALENDAR
VERSION:2.0
PRODID:-//wp-events-plugin.com//7.2.3.1//EN
TZID:America/New_York
X-WR-TIMEZONE:America/New_York
BEGIN:VEVENT
UID:148@betheljc.org
DTSTART;TZID=America/New_York:20230120T193000
DTEND;TZID=America/New_York:20230120T213000
DTSTAMP:20230112T162944Z
URL:https://www.betheljc.org/events/38th-annual-rev-dr-martin-luther-king-
 jr-commemorative-kabbalat-shabbat-services/
SUMMARY:38th Annual Rev. Dr. Martin Luther King\, Jr. Commemorative Kabbala
 t Shabbat Services
DESCRIPTION:With honored speaker Jonathan Holloway\, President of Rutgers U
 niversity.
ATTACH;FMTTYPE=image/jpeg:https://www.betheljc.org/wp-content/uploads/2022
 /12/selma-to-montgomery-alabama-march-459534214-cc55e8e39a774951b38fb3c443
 299ad6.jpg
CATEGORIES:Featured Events,Holidays,Services
END:VEVENT
BEGIN:VTIMEZONE
TZID:America/New_York
X-LIC-LOCATION:America/New_York
BEGIN:STANDARD
DTSTART:20221106T010000
TZOFFSETFROM:-0400
TZOFFSETTO:-0500
TZNAME:EST
END:STANDARD
END:VTIMEZONE
END:VCALENDAR