BEGIN:VCALENDAR
VERSION:2.0
PRODID:-//wp-events-plugin.com//7.2.3.1//EN
TZID:America/New_York
X-WR-TIMEZONE:America/New_York
BEGIN:VEVENT
UID:17@betheljc.org
DTSTART;TZID=America/New_York;VALUE=DATE:20210129
DTEND;TZID=America/New_York;VALUE=DATE:20210211
DTSTAMP:20210210T213635Z
URL:https://www.betheljc.org/events/mishloach-manot-fundraiser/
SUMMARY:Mishloach Manot Fundraiser
DESCRIPTION:tradition of Mishloach Manot—sending gifts of food to friends
  in honor of the holiday of Purim. This is a wonderful way to show generos
 ity to your fellow members as well as to Temple Beth-El.
ATTACH;FMTTYPE=image/jpeg:https://www.betheljc.org/wp-content/uploads/2021
 /01/Purim-bags-1.jpg
CATEGORIES:Featured Events
END:VEVENT
BEGIN:VTIMEZONE
TZID:America/New_York
X-LIC-LOCATION:America/New_York
BEGIN:STANDARD
DTSTART:20201101T010000
TZOFFSETFROM:-0400
TZOFFSETTO:-0500
TZNAME:EST
END:STANDARD
END:VTIMEZONE
END:VCALENDAR